BEGIN:VCALENDAR
VERSION:2.0
PRODID:-//Bangladesh University of Business and Technology (BUBT) - ECPv5.3.1.1//NONSGML v1.0//EN
CALSCALE:GREGORIAN
METHOD:PUBLISH
X-WR-CALNAME:Bangladesh University of Business and Technology (BUBT)
X-ORIGINAL-URL:https://eee.bubt.edu.bd
X-WR-CALDESC:Events for Bangladesh University of Business and Technology (BUBT)
BEGIN:VTIMEZONE
TZID:UTC
BEGIN:STANDARD
TZOFFSETFROM:+0000
TZOFFSETTO:+0000
TZNAME:UTC
DTSTART:20240101T000000
END:STANDARD
END:VTIMEZONE
BEGIN:VEVENT
DTSTART;TZID=UTC:20240211T143000
DTEND;TZID=UTC:20240211T170000
DTSTAMP:20260421T083131
CREATED:20240212T112938Z
LAST-MODIFIED:20240222T061842Z
UID:4056-1707661800-1707670800@eee.bubt.edu.bd
SUMMARY:IEEE Student Branch Welcomed New Members with Eventful Ceremony
DESCRIPTION:
URL:https://eee.bubt.edu.bd/event/farewell-and-freshers-orientation-ceremony-for-ieee-bubt-sb-on-11-02-2024
LOCATION:International Conference Hall\,BUBT\, Dhaka\, 1216\, Bangladesh
ATTACH;FMTTYPE=image/jpeg:https://eee.bubt.edu.bd/wp-content/uploads/2024/02/427642405_10224286420647738_262338448042614346_n.jpg
END:VEVENT
END:VCALENDAR